BEGIN:VCALENDAR
VERSION:2.0
PRODID:-//wp-events-plugin.com//7.2.3.1//EN
TZID:Europe/Paris
X-WR-TIMEZONE:Europe/Paris
BEGIN:VEVENT
UID:186@alternateur-valleeherault.fr
DTSTART;TZID=Europe/Paris:20230517T140000
DTEND;TZID=Europe/Paris:20230517T173000
DTSTAMP:20230411T073448Z
URL:https://alternateur-valleeherault.fr/events/workshops-sound-design/
SUMMARY:Workshops sound design
DESCRIPTION:Workshops sound design (MAO)\nAvec Thibault de la Woods Factory
 \, développer écoute et créativité avec la construction d’un premier
  design sonore avec le logiciel Ableton Live.\n\nNécessite d’avoir des 
 notions du logiciel\, en ayant par exemple suivi une des sessions MAO.\n\n
 À partir de 14 ans. Musiciens ou non musiciens. Durée 3h30.  8 particip
 ants par session.\n\nAnimation Gratuite sur inscription obligatoire  / Pa
 r mail alternateur@cc-vallee-herault.fr avec le code résa WORKSHOP-SD-17 
 ou par téléphone au 04 67 67 16 77
ATTACH;FMTTYPE=image/jpeg:https://alternateur-valleeherault.fr/wp-content/
 uploads/2023/04/9-workshop-sound-design.jpeg
END:VEVENT
BEGIN:VTIMEZONE
TZID:Europe/Paris
X-LIC-LOCATION:Europe/Paris
BEGIN:DAYLIGHT
DTSTART:20230326T030000
TZOFFSETFROM:+0100
TZOFFSETTO:+0200
TZNAME:CEST
END:DAYLIGHT
END:VTIMEZONE
END:VCALENDAR