BEGIN:VCALENDAR
VERSION:2.0
PRODID:-//wp-events-plugin.com//7.2.3.1//EN
TZID:Europe/Paris
X-WR-TIMEZONE:Europe/Paris
BEGIN:VEVENT
UID:665@alternateur-valleeherault.fr
DTSTART;TZID=Europe/Paris:20240530T170000
DTEND;TZID=Europe/Paris:20240530T200000
DTSTAMP:20240514T090003Z
URL:https://alternateur-valleeherault.fr/events/sport-et-jeux-de-lesprit-s
 port-et-culture-2/
SUMMARY:SPORT ET JEUX DE L'ESPRIT : Sport et culture
DESCRIPTION:« Défi Culturel Multisport"\nUne animation où les participan
 ts explorent la diversité culturelle à travers une variété de sports.\
 n\n\n\nLes participants seront invités à résoudre des énigmes et des m
 essages codes inspirés de différentes anecdotes inédites des jeux olymp
 iques et paralympiques.\nDécouvrir par des activités ludo mathématiques
  avec des défis intellectuels qui stimulent la curiosité et l’esprit d
 'analyse.
ATTACH;FMTTYPE=image/jpeg:https://alternateur-valleeherault.fr/wp-content/
 uploads/2024/05/affichette1.jpg
END:VEVENT
BEGIN:VTIMEZONE
TZID:Europe/Paris
X-LIC-LOCATION:Europe/Paris
BEGIN:DAYLIGHT
DTSTART:20240331T030000
TZOFFSETFROM:+0100
TZOFFSETTO:+0200
TZNAME:CEST
END:DAYLIGHT
END:VTIMEZONE
END:VCALENDAR