BEGIN:VCALENDAR
VERSION:2.0
PRODID:-//wp-events-plugin.com//7.2.3.1//EN
TZID:Europe/Paris
X-WR-TIMEZONE:Europe/Paris
BEGIN:VEVENT
UID:65@alternateur-valleeherault.fr
DTSTART;TZID=Europe/Paris:20221105T100000
DTEND;TZID=Europe/Paris:20221105T170000
DTSTAMP:20221102T143936Z
URL:https://alternateur-valleeherault.fr/events/repas-partage/
SUMMARY:REPAS partagé
DESCRIPTION:L'Alternateur est heureux de vous inviter à un repas partagé.
 \nvenez déjeuner ce samedi 5 novembre...\nChacun apporte un plat et on pa
 rtage dans la bonne humeur !\nVenez nombreux !
ATTACH;FMTTYPE=image/jpeg:https://alternateur-valleeherault.fr/wp-content/
 uploads/2022/11/partager-repas-coeliaque-carre.jpg
END:VEVENT
BEGIN:VTIMEZONE
TZID:Europe/Paris
X-LIC-LOCATION:Europe/Paris
BEGIN:STANDARD
DTSTART:20221030T020000
TZOFFSETFROM:+0200
TZOFFSETTO:+0100
TZNAME:CET
END:STANDARD
END:VTIMEZONE
END:VCALENDAR