BEGIN:VCALENDAR
VERSION:2.0
PRODID:-//wp-events-plugin.com//7.2.3.1//EN
TZID:Europe/Paris
X-WR-TIMEZONE:Europe/Paris
BEGIN:VEVENT
UID:864@alternateur-valleeherault.fr
DTSTART;TZID=Europe/Paris:20241029T180000
DTEND;TZID=Europe/Paris:20241029T200000
DTSTAMP:20240828T130704Z
URL:https://alternateur-valleeherault.fr/events/initiation-facilitation-gr
 aphique-2024-10-29/
SUMMARY:Facilitation Graphique
DESCRIPTION:Vous avez toujours voulu exprimer vos idées de manière créat
 ive et impactante ?\nVenez découvrir la facilitation graphique !\nAccessi
 ble à tous\, de 8 à 88 ans\, ces ateliers ludiques et participatifs vous
  permettront d'apprendre à dessiner vos pensées\, à raconter des histoi
 res visuelles et à partager vos idées de manière claire et captivante. 
 Que vous soyez manager\, enseignant\, étudiant\, ou simplement curieux\, 
 la facilitation graphique est un outil puissant pour enrichir vos présent
 ations\, faciliter vos réunions et rendre vos communications plus inclusi
 ves\n\nAteliers Découverte de 2 heures :\n\n 	Quand ? Chaque mardi du mo
 is d'octobre.\n\nPour qui ? Pour tous\, dès 8 ans. Venez seul ou en fami
 lle
ATTACH;FMTTYPE=image/jpeg:https://alternateur-valleeherault.fr/wp-content/
 uploads/2024/08/visuel.png
END:VEVENT
BEGIN:VTIMEZONE
TZID:Europe/Paris
X-LIC-LOCATION:Europe/Paris
BEGIN:STANDARD
DTSTART:20241027T020000
TZOFFSETFROM:+0200
TZOFFSETTO:+0100
TZNAME:CET
END:STANDARD
END:VTIMEZONE
END:VCALENDAR