BEGIN:VCALENDAR
VERSION:2.0
PRODID:-//wp-events-plugin.com//7.2.3.1//EN
TZID:Europe/Paris
X-WR-TIMEZONE:Europe/Paris
BEGIN:VEVENT
UID:380@alternateur-valleeherault.fr
DTSTART;TZID=Europe/Paris:20241212T173000
DTEND;TZID=Europe/Paris:20241212T193000
DTSTAMP:20241121T162227Z
URL:https://alternateur-valleeherault.fr/events/initiation-dessin-sur-ordi
 nateur/
SUMMARY:Initiation Dessin sur ordinateur
DESCRIPTION:Venez découvrir le dessin sur ordinateur avec le logiciel GIMP
 \n&nbsp\;\n\nRetouche d'image création graphique...\n\nUn logiciel libre 
 et performant pour toutes vos envies.\n\n\n\nréservé à nos adhérents\n
 \n25 euros
ATTACH;FMTTYPE=image/jpeg:https://alternateur-valleeherault.fr/wp-content/
 uploads/2023/09/gimp-alt.png
END:VEVENT
BEGIN:VTIMEZONE
TZID:Europe/Paris
X-LIC-LOCATION:Europe/Paris
BEGIN:STANDARD
DTSTART:20241027T020000
TZOFFSETFROM:+0200
TZOFFSETTO:+0100
TZNAME:CET
END:STANDARD
END:VTIMEZONE
END:VCALENDAR