BEGIN:VCALENDAR
VERSION:2.0
PRODID:-//wp-events-plugin.com//7.2.3.1//EN
TZID:Europe/Paris
X-WR-TIMEZONE:Europe/Paris
BEGIN:VEVENT
UID:1083@alternateur-valleeherault.fr
DTSTART;TZID=Europe/Paris:20251009T173000
DTEND;TZID=Europe/Paris:20251009T193000
DTSTAMP:20250908T135424Z
URL:https://alternateur-valleeherault.fr/events/initiation-a-la-modelisati
 on-3d-24/
SUMMARY:Initiation à la modélisation 3D
DESCRIPTION:Venez  découvrir  l'art  de  la  modélisation...\nEn seu
 lement deux petites heures on ne fera pas de vous des experts\, mais on es
 père bien vous faire découvrir les prémices de la modélisation.\n\nStr
 ictement réservé à nos adhérents.\n\nRéservation conseillée. Tarif 2
 5 euros
ATTACH;FMTTYPE=image/jpeg:https://alternateur-valleeherault.fr/wp-content/
 uploads/2022/11/alt3d.png
END:VEVENT
BEGIN:VTIMEZONE
TZID:Europe/Paris
X-LIC-LOCATION:Europe/Paris
BEGIN:DAYLIGHT
DTSTART:20250330T030000
TZOFFSETFROM:+0100
TZOFFSETTO:+0200
TZNAME:CEST
END:DAYLIGHT
END:VTIMEZONE
END:VCALENDAR