BEGIN:VCALENDAR
VERSION:2.0
PRODID:-//wp-events-plugin.com//7.2.3.1//EN
TZID:Europe/Paris
X-WR-TIMEZONE:Europe/Paris
BEGIN:VEVENT
UID:921@alternateur-valleeherault.fr
DTSTART;TZID=Europe/Paris:20250307T093000
DTEND;TZID=Europe/Paris:20250307T173000
DTSTAMP:20250226T123203Z
URL:https://alternateur-valleeherault.fr/events/electrifier-son-velo/
SUMMARY:électrifier son vélo
DESCRIPTION:venez apprendre à le faire !\n\nC’est parti\, pour ce mois d
 e mars\, l’association pour la mobilité solaire Amobisol organise 3 jou
 rs d’ateliers et même une soirée solaire autour de la mobilité à vé
 lo électrique ! Un atelier se déroulera dans les locaux de votre Alterna
 teur préféré\, le 7 mars.\nUn vélo à assistance électrique\, tu en v
 eux un mais c'est trop cher ? Viens monter ton kit moteur toi-même sur to
 n vélo de tous les jours ! L’atelier se déroule toute la journée\, d
 e 9h30 à 17h30 https://tinyurl.com/conversion-VAE-7mars. \n\nPrix libre
 \, prix conseillé de 50€\n\n
END:VEVENT
BEGIN:VTIMEZONE
TZID:Europe/Paris
X-LIC-LOCATION:Europe/Paris
BEGIN:STANDARD
DTSTART:20241027T020000
TZOFFSETFROM:+0200
TZOFFSETTO:+0100
TZNAME:CET
END:STANDARD
END:VTIMEZONE
END:VCALENDAR