BEGIN:VCALENDAR
VERSION:2.0
PRODID:-//wp-events-plugin.com//7.2.3.1//EN
TZID:Europe/Paris
X-WR-TIMEZONE:Europe/Paris
BEGIN:VEVENT
UID:869@alternateur-valleeherault.fr
DTSTART;TZID=Europe/Paris:20241009T140000
DTEND;TZID=Europe/Paris:20241009T170000
DTSTAMP:20240902T122745Z
URL:https://alternateur-valleeherault.fr/events/comics-et-super-heros-cree
 -ta-propre-emission-de-tv-3/
SUMMARY:"COMICS ET SUPER HEROS" Crée ta propre émission de TV
DESCRIPTION:3️⃣ Troisième session - Tournage :\n\n 	Le moment que tu a
 ttends : ACTION ! Tu enregistres ton émission sur le plateau TV. 📺\n\n
 \n\nCrée ton show télé avec des pros sue le thème : Comics &amp\; Su
 per-héros ! \nPasse de l'autre côté de l'écran et plonge dans l'unive
 rs de la production audiovisuelle. C'est le moment de briller ! 🌟\n\nBi
 envenue à l'atelier plateau TV où tu vas apprendre à faire TOUT\, du s
 cript à l'écran\, comme un pro !\n💥 Q u'   e s t - c e   q u i   t
 ' a t t e n d   ?\n👉 4 ateliers de 3 heures chacun\, soit un total de
  12 heures de pure créativité et de fun ! 👉 Un vrai plateau TV rien q
 ue pour toi et ton équipe ! Tu vas pouvoir découvrir comment on crée u
 ne émission de A à Z. 🎥 👉 Des rôles variés pour tous les goûts 
 : scénariste\, réalisateur\, caméraman\, animateur... et bien plus enco
 re !\n🎯 Les objectifs de cette aventure :\n\n 	Découvre les coulisses 
 de l'audiovisuel : Tu vas plonger dans l'univers des métiers de la produc
 tion télé. 🎬\n 	Écris ton script\, tourne et monte ton émission : T
 out ce qu'il faut pour animer une émission ! 🌟\n 	Développe tes comp
 étences techniques et créatives : La caméra et le micro n'auront plus a
 ucun secret pour toi !\n 	Boost ta confiance et ton esprit d'équipe : Que
  ce soit devant ou derrière la caméra\, chacun aura son rôle à jouer.\
 n 	Libère ta créativité : Exprime tes idées et transforme-les en réal
 ité !\n\nQuand ? Les mercredi de 14h à 17h :\n25/09/2024\n02/10/2024\n0
 9/10/2024\n16/10/2024\n\n&nbsp\;\n\nTarif : 60 euros réservé aux adhére
 nts\n\n🚀 Programme de l'atelier :\n1️⃣ Première session - Introduc
 tion &amp\; Préparation :\n\n 	Tu découvriras les bases de la production
  et tu décideras du déroulé de ton émission avec ton équipe. 💡\n\n
 2️⃣ Deuxième session - Scénarisation &amp\; Pré-production :\n\n 	T
 u écriras le script de ton émission et commenceras à mettre en place le
  décor et les rôles. 📝\n\n3️⃣ Troisième session - Tournage :\n\n
  	Le moment que tu attends : ACTION ! Tu enregistres ton émission sur le 
 plateau TV. 📺\n\n4️⃣ Quatrième session - Montage &amp\; Visionnage
  :\n\n 	Ajoute les touches finales avec le montage\, puis regarde et parta
 ge ton œuvre. 🎬\n\n🎤  I n s c r i s - t o i   v i t e   e t   
 v i e n s   c r é e r   t a   l é g e n d e  ! 🎤
ATTACH;FMTTYPE=image/jpeg:https://alternateur-valleeherault.fr/wp-content/
 uploads/2024/09/plateau-TV-T2.png
END:VEVENT
BEGIN:VTIMEZONE
TZID:Europe/Paris
X-LIC-LOCATION:Europe/Paris
BEGIN:DAYLIGHT
DTSTART:20240331T030000
TZOFFSETFROM:+0100
TZOFFSETTO:+0200
TZNAME:CEST
END:DAYLIGHT
END:VTIMEZONE
END:VCALENDAR