BEGIN:VCALENDAR
VERSION:2.0
PRODID:-//wp-events-plugin.com//7.2.3.1//EN
TZID:Europe/Paris
X-WR-TIMEZONE:Europe/Paris
BEGIN:VEVENT
UID:636@alternateur-valleeherault.fr
DTSTART;TZID=Europe/Paris:20240307T173000
DTEND;TZID=Europe/Paris:20240307T193000
DTSTAMP:20240111T095543Z
URL:https://alternateur-valleeherault.fr/events/circulaction-2/
SUMMARY:CIRCUL'ACTION
DESCRIPTION:\nVenez JOUER et COMPRENDRE !\nl'économie    circulaire  
   c'est    pas    si    compliqué !\nLaissez-vous embarquer en 
 famille ou entre ami(e)s dans un territoire-type où vous découvrirez en 
 jouant des actions concrètes pour réduire nos impacts environnementaux e
 t sociaux au quotidien.\n\n\nCircul’action est un jeu de plateau éducat
 if coopératif\, en équipe\, qui vous familiarisera avec les leviers de l
 ’économie circulaire.\n\n\nVenez relever le défi d’une vie plus resp
 ectueuse de l’environnement et plus agréable !\nPour adultes et jeunes\
 n\n\nen collaboration avec DEMAIN LA TERRE\n\n\n\n\n\n\nPlus d'infos : htt
 ps://demainlaterre.fr/action/atelier-circul'action\n\n\nOUVERT A TOUS\nSur
  inscription uniquement via www.billetweb.fr/circulaction\n\n
ATTACH;FMTTYPE=image/jpeg:https://alternateur-valleeherault.fr/wp-content/
 uploads/2023/11/circulaction.png
END:VEVENT
BEGIN:VTIMEZONE
TZID:Europe/Paris
X-LIC-LOCATION:Europe/Paris
BEGIN:STANDARD
DTSTART:20231029T020000
TZOFFSETFROM:+0200
TZOFFSETTO:+0100
TZNAME:CET
END:STANDARD
END:VTIMEZONE
END:VCALENDAR