BEGIN:VCALENDAR
VERSION:2.0
PRODID:-//wp-events-plugin.com//7.2.3.1//EN
TZID:Europe/Paris
X-WR-TIMEZONE:Europe/Paris
BEGIN:VEVENT
UID:1007@alternateur-valleeherault.fr
DTSTART;TZID=Europe/Paris:20251029T174500
DTEND;TZID=Europe/Paris:20251029T194500
DTSTAMP:20250902T155847Z
URL:https://alternateur-valleeherault.fr/events/atelier-decouverte-blender
 -5/
SUMMARY:Atelier découverte BLENDER 6
DESCRIPTION:6 séances pour découvrir et maitriser !\n&nbsp\;\nSixième s
 éance : Base des UV/Texture Paint - Lumières et environnement\n#1 - Base
  des UV\n#2 - Texture paint\n#3 - Le Displacement : Modifier/Shader\n#4 - 
 Premier Asset Texturé (Table)\n#5 - Les types de Light/studio de base\n#6
  - Environnement Texture\n\n&nbsp\;\n\n&nbsp\;\n\n\n\n&nbsp\;\n\nApprendre
  le logiciel Blender 3D offre de nombreux avantages\, allant de sa gratuit
 é à ses vastes possibilités créatives et professionnelles. C'est un ou
 til puissant et polyvalent qui peut ouvrir des portes dans de nombreux dom
 aines.\nGratuit et Open-Source\nL'un des plus grands atouts de Blender est
  qu'il est entièrement gratuit.\n\nContrairement à de nombreux autres lo
 giciels de modélisation 3D qui nécessitent des abonnements coûteux\,\nB
 lender est accessible à tous\, sans aucun frais. Son caractère open-sour
 ce signifie que son code est public et qu'une communauté mondiale de dév
 eloppeurs et d'artistes contribue constamment à son amélioration. Cela g
 arantit des mises à jour régulières\, de nouvelles fonctionnalités et 
 une correction rapide des bugs.\nPolyvalence Inégalée\nBlender est une s
 uite de création 3D complète. Il n'est pas limité à une seule tâche\,
  mais intègre une multitude d'outils permettant de gérer l'ensemble du p
 rocessus de création 3D :\n\n• Modélisation : Créez n'importe quel ob
 jet\, personnage ou environnement imaginable.\n• Sculpture numérique : 
 Sculptez des modèles organiques avec une grande précision\, de manière 
 similaire à l'argile numérique.\n• Animation : Donnez vie à vos créa
 tions grâce à des outils d'animation sophistiqués (rigging\, keyframing
 ).\n• Effets visuels (VFX) : Simulez de la fumée\, du feu\, des fluides
 \, des particules et des destructions.\n• Rendu : Produisez des images e
 t des animations photoréalistes grâce à ses moteurs de rendu intégrés
 .\n• Montage vidéo : Effectuez le montage de base de vos séquences dir
 ectement dans le logiciel.\n• Création de jeux : Bien que moins courant
 \, il peut être utilisé pour créer des ressources et des prototypes de 
 jeux.\nOpportunités Professionnelles et Communauté Active\nLa maîtrise 
 de Blender est une compétence de plus en plus recherchée dans de nombreu
 ses industries créatives. Les opportunités de carrière incluent le cin
 éma d'animation\, les effets spéciaux pour le cinéma et la télévision
 \, le jeu vidéo\, la visualisation architecturale\, le design de produits
  et la publicité.\nDe plus\, Blender bénéficie d'une communauté d'util
 isateurs extrêmement active et solidaire. Il existe une quantité phénom
 énale de tutoriels\, de forums\, de cours en ligne et de ressources gratu
 ites pour vous aider à apprendre et à vous perfectionner. Si vous rencon
 trez un problème\, il est presque certain que quelqu'un d'autre l'a déj
 à résolu et a partagé la solution.\n\n&nbsp\;\n\n&nbsp\;\n\n10 Euros - 
 réservé aux adhérents
ATTACH;FMTTYPE=image/jpeg:https://alternateur-valleeherault.fr/wp-content/
 uploads/2025/09/Item-Blender_png-transparent-blender-logo-tech-companies-t
 humbnail.png
END:VEVENT
BEGIN:VTIMEZONE
TZID:Europe/Paris
X-LIC-LOCATION:Europe/Paris
BEGIN:STANDARD
DTSTART:20251026T020000
TZOFFSETFROM:+0200
TZOFFSETTO:+0100
TZNAME:CET
END:STANDARD
END:VTIMEZONE
END:VCALENDAR