BEGIN:VCALENDAR
VERSION:2.0
PRODID:-//wp-events-plugin.com//7.2.3.1//EN
TZID:Europe/Paris
X-WR-TIMEZONE:Europe/Paris
BEGIN:VEVENT
UID:1008@alternateur-valleeherault.fr
DTSTART;TZID=Europe/Paris:20251022T174500
DTEND;TZID=Europe/Paris:20251022T194500
DTSTAMP:20250902T155821Z
URL:https://alternateur-valleeherault.fr/events/atelier-decouverte-blender
 -5-2/
SUMMARY:Atelier découverte BLENDER 5
DESCRIPTION:6 séances pour découvrir et maitriser !\n&nbsp\;\nCinquième 
 séance : Les Modifiers\n#1 - Bases des matériaux\n#2 - Le Node (Nœud) 
 « Principled BSDF »\n#3 - La Roughness en détail\n#4 - Textures réalis
 tes\n#5 - Traiter/modifier les texture\n#6 - Les nodes « Color Ramp » et
  « Map Range »\n#7 - Les bases des textures procédurales\n#8 - Créer d
 es groupes de nodes\n#9 - Texture Métal procédurale\n#10 - Texture Bois 
 procédural\n\n&nbsp\;\n\n&nbsp\;\n\n\n\n&nbsp\;\n\nApprendre le logiciel 
 Blender 3D offre de nombreux avantages\, allant de sa gratuité à ses vas
 tes possibilités créatives et professionnelles. C'est un outil puissant 
 et polyvalent qui peut ouvrir des portes dans de nombreux domaines.\nGratu
 it et Open-Source\nL'un des plus grands atouts de Blender est qu'il est en
 tièrement gratuit.\n\nContrairement à de nombreux autres logiciels de mo
 délisation 3D qui nécessitent des abonnements coûteux\,\nBlender est ac
 cessible à tous\, sans aucun frais. Son caractère open-source signifie q
 ue son code est public et qu'une communauté mondiale de développeurs et 
 d'artistes contribue constamment à son amélioration. Cela garantit des m
 ises à jour régulières\, de nouvelles fonctionnalités et une correctio
 n rapide des bugs.\nPolyvalence Inégalée\nBlender est une suite de créa
 tion 3D complète. Il n'est pas limité à une seule tâche\, mais intègr
 e une multitude d'outils permettant de gérer l'ensemble du processus de c
 réation 3D :\n\n• Modélisation : Créez n'importe quel objet\, personn
 age ou environnement imaginable.\n• Sculpture numérique : Sculptez des 
 modèles organiques avec une grande précision\, de manière similaire à 
 l'argile numérique.\n• Animation : Donnez vie à vos créations grâce 
 à des outils d'animation sophistiqués (rigging\, keyframing).\n• Effet
 s visuels (VFX) : Simulez de la fumée\, du feu\, des fluides\, des partic
 ules et des destructions.\n• Rendu : Produisez des images et des animati
 ons photoréalistes grâce à ses moteurs de rendu intégrés.\n• Montag
 e vidéo : Effectuez le montage de base de vos séquences directement dans
  le logiciel.\n• Création de jeux : Bien que moins courant\, il peut ê
 tre utilisé pour créer des ressources et des prototypes de jeux.\nOpport
 unités Professionnelles et Communauté Active\nLa maîtrise de Blender es
 t une compétence de plus en plus recherchée dans de nombreuses industrie
 s créatives. Les opportunités de carrière incluent le cinéma d'animati
 on\, les effets spéciaux pour le cinéma et la télévision\, le jeu vid
 éo\, la visualisation architecturale\, le design de produits et la public
 ité.\nDe plus\, Blender bénéficie d'une communauté d'utilisateurs extr
 êmement active et solidaire. Il existe une quantité phénoménale de tut
 oriels\, de forums\, de cours en ligne et de ressources gratuites pour vou
 s aider à apprendre et à vous perfectionner. Si vous rencontrez un probl
 ème\, il est presque certain que quelqu'un d'autre l'a déjà résolu et 
 a partagé la solution.\n\n&nbsp\;\n\n&nbsp\;\n\n10 Euros - réservé aux 
 adhérents
ATTACH;FMTTYPE=image/jpeg:https://alternateur-valleeherault.fr/wp-content/
 uploads/2025/09/Item-Blender_png-transparent-blender-logo-tech-companies-t
 humbnail.png
END:VEVENT
BEGIN:VTIMEZONE
TZID:Europe/Paris
X-LIC-LOCATION:Europe/Paris
BEGIN:DAYLIGHT
DTSTART:20250330T030000
TZOFFSETFROM:+0100
TZOFFSETTO:+0200
TZNAME:CEST
END:DAYLIGHT
END:VTIMEZONE
END:VCALENDAR